BEGIN:VCALENDAR
VERSION:2.0
PRODID:-//hacksw/handcal//NONSGML v1.0//EN
BEGIN:VEVENT
DTSTAMP:20180311T093000Z
DTSTART:20180311T093000Z
DTEND:20180311T120000Z
SUMMARY:SV Schleswig, Frühlingsbrunch
END:VEVENT
END:VCALENDAR
