BEGIN:VCALENDAR
VERSION:2.0
PRODID:-//hacksw/handcal//NONSGML v1.0//EN
BEGIN:VEVENT
DTSTAMP:20180305T180000Z
DTSTART:20180305T180000Z
DTEND:20180305T200000Z
SUMMARY:OV Eggebek, Jahreshauptversammlung mit einem gemeinsamen Essen
END:VEVENT
END:VCALENDAR
