BEGIN:VCALENDAR
VERSION:2.0
PRODID:-//hacksw/handcal//NONSGML v1.0//EN
BEGIN:VEVENT
DTSTAMP:20180303T100000Z
DTSTART:20180303T100000Z
DTEND:20180303T120000Z
SUMMARY:JU Kreisverbandstag mit P. Nicolaisen, MdB, und Ministerin Sütterlin-Waack
END:VEVENT
END:VCALENDAR
