BEGIN:VCALENDAR
VERSION:2.0
PRODID:-//hacksw/handcal//NONSGML v1.0//EN
BEGIN:VEVENT
DTSTAMP:20180305T190000Z
DTSTART:20180305T190000Z
DTEND:20180305T203000Z
SUMMARY:OV Süderbrarup, Kandidatenaufstellung
END:VEVENT
END:VCALENDAR
