BEGIN:VCALENDAR
VERSION:2.0
PRODID:-//hacksw/handcal//NONSGML v1.0//EN
BEGIN:VEVENT
DTSTAMP:20180228T183000Z
DTSTART:20180228T183000Z
DTEND:20180228T200000Z
SUMMARY:Ov Jübek, Kandidatenaufstellung mit Andreas Hein, MdL
END:VEVENT
END:VCALENDAR
