BEGIN:VCALENDAR
VERSION:2.0
PRODID:-//hacksw/handcal//NONSGML v1.0//EN
BEGIN:VEVENT
DTSTAMP:20180214T190000Z
DTSTART:20180214T190000Z
DTEND:20180214T203000Z
SUMMARY:OV Twedt, Kandidatenaufstellung
END:VEVENT
END:VCALENDAR
