BEGIN:VCALENDAR
VERSION:2.0
PRODID:-//hacksw/handcal//NONSGML v1.0//EN
BEGIN:VEVENT
DTSTAMP:20180112T183000Z
DTSTART:20180112T183000Z
DTEND:20180112T200000Z
SUMMARY:Regionaltag im Amt Südangeln
END:VEVENT
END:VCALENDAR
