BEGIN:VCALENDAR
VERSION:2.0
PRODID:-//hacksw/handcal//NONSGML v1.0//EN
BEGIN:VEVENT
DTSTAMP:20180125T183000Z
DTSTART:20180125T183000Z
DTEND:20180125T200000Z
SUMMARY:OV Mohrkirch, Vorstandswahl und Kandidatenaufstellung für die Gemeindewahl
END:VEVENT
END:VCALENDAR
