BEGIN:VCALENDAR
VERSION:2.0
PRODID:-//hacksw/handcal//NONSGML v1.0//EN
BEGIN:VEVENT
DTSTAMP:20180110T180000Z
DTSTART:20180110T180000Z
DTEND:20180110T193000Z
SUMMARY:BV Amt Hürup, MV mit Sabine Sütterlin-Waack
END:VEVENT
END:VCALENDAR
