BEGIN:VCALENDAR
VERSION:2.0
PRODID:-//hacksw/handcal//NONSGML v1.0//EN
BEGIN:VEVENT
DTSTAMP:20171217T153000Z
DTSTART:20171217T153000Z
DTEND:20171217T170000Z
SUMMARY:OV Eggebek, Weihnachtsmann im Beektal
END:VEVENT
END:VCALENDAR
