BEGIN:VCALENDAR
VERSION:2.0
PRODID:-//hacksw/handcal//NONSGML v1.0//EN
BEGIN:VEVENT
DTSTAMP:20180108T190000Z
DTSTART:20180108T190000Z
DTEND:20180108T200000Z
SUMMARY:BV Amt Geltinger Bucht, JHV mit Vorstandswahlen, mit Johannes Callsen, MdL
END:VEVENT
END:VCALENDAR
