BEGIN:VCALENDAR
VERSION:2.0
PRODID:-//hacksw/handcal//NONSGML v1.0//EN
BEGIN:VEVENT
DTSTAMP:20171205T183000Z
DTSTART:20171205T183000Z
DTEND:20171205T200000Z
SUMMARY:OV Hollingstedt, Kandidatenaufstellung für die Gemeindewahl
END:VEVENT
END:VCALENDAR
