BEGIN:VCALENDAR
VERSION:2.0
PRODID:-//hacksw/handcal//NONSGML v1.0//EN
BEGIN:VEVENT
DTSTAMP:20171108T180000Z
DTSTART:20171108T180000Z
DTEND:20171108T203000Z
SUMMARY:OV Großsolt, JHV mit Vorstandswahlen und anschl. Essen
END:VEVENT
END:VCALENDAR
