BEGIN:VCALENDAR
VERSION:2.0
PRODID:-//hacksw/handcal//NONSGML v1.0//EN
BEGIN:VEVENT
DTSTAMP:20171102T190000Z
DTSTART:20171102T190000Z
DTEND:20171102T203000Z
SUMMARY:OV Boren, JHV mit Vorstandswahlen
END:VEVENT
END:VCALENDAR
