BEGIN:VCALENDAR
VERSION:2.0
PRODID:-//hacksw/handcal//NONSGML v1.0//EN
BEGIN:VEVENT
DTSTAMP:20180131T180000Z
DTSTART:20180131T180000Z
DTEND:20180131T210000Z
SUMMARY:BV Süderbrarup, Preisskat-Abend
END:VEVENT
END:VCALENDAR
