BEGIN:VCALENDAR
VERSION:2.0
PRODID:-//hacksw/handcal//NONSGML v1.0//EN
BEGIN:VEVENT
DTSTAMP:20170928T170000Z
DTSTART:20170928T170000Z
DTEND:20170928T190000Z
SUMMARY:OV Langballig, 4. Dorfgespräch
END:VEVENT
END:VCALENDAR
