BEGIN:VCALENDAR
VERSION:2.0
PRODID:-//hacksw/handcal//NONSGML v1.0//EN
BEGIN:VEVENT
DTSTAMP:20170927T180000Z
DTSTART:20170927T180000Z
DTEND:20170927T193000Z
SUMMARY:OV Tolk, Jahreshauptversammlung mit Wahlen, mit Walter Behrens
END:VEVENT
END:VCALENDAR
