BEGIN:VCALENDAR
VERSION:2.0
PRODID:-//hacksw/handcal//NONSGML v1.0//EN
BEGIN:VEVENT
DTSTAMP:20170904T130000Z
DTSTART:20170904T130000Z
DTEND:20170904T150000Z
SUMMARY:Senioren Union Schleswig, Stammtisch mit Petra Nicolaisen
END:VEVENT
END:VCALENDAR
