BEGIN:VCALENDAR
VERSION:2.0
PRODID:-//hacksw/handcal//NONSGML v1.0//EN
BEGIN:VEVENT
DTSTAMP:20170909T123000Z
DTSTART:20170909T123000Z
DTEND:20170909T170000Z
SUMMARY:OV Kropp, Sommerfest im Tetenhusener Schulwald
END:VEVENT
END:VCALENDAR
