BEGIN:VCALENDAR
VERSION:2.0
PRODID:-//hacksw/handcal//NONSGML v1.0//EN
BEGIN:VEVENT
DTSTAMP:20170814T173000Z
DTSTART:20170814T173000Z
DTEND:20170814T190000Z
SUMMARY:OV Jerrishoe, Jahreshauptversammlung mit Wahlen
END:VEVENT
END:VCALENDAR
