BEGIN:VCALENDAR
VERSION:2.0
PRODID:-//hacksw/handcal//NONSGML v1.0//EN
BEGIN:VEVENT
DTSTAMP:20170713T170000Z
DTSTART:20170713T170000Z
DTEND:20170713T183000Z
SUMMARY:Junge Union, Kreisverbandstag  mit Andreas Hein, MdL
END:VEVENT
END:VCALENDAR
