BEGIN:VCALENDAR
VERSION:2.0
PRODID:-//hacksw/handcal//NONSGML v1.0//EN
BEGIN:VEVENT
DTSTAMP:20170622T173000Z
DTSTART:20170622T173000Z
DTEND:20170622T190000Z
SUMMARY:OV Silberstedt, Mitgliederversammlung mit Andreas Hein, MdL
END:VEVENT
END:VCALENDAR
