BEGIN:VCALENDAR
VERSION:2.0
PRODID:-//hacksw/handcal//NONSGML v1.0//EN
BEGIN:VEVENT
DTSTAMP:20170601T150000Z
DTSTART:20170601T150000Z
DTEND:20170601T170000Z
SUMMARY:Senioren Union Nordangeln, Politische Nachlese der Landtagswahlen
END:VEVENT
END:VCALENDAR
