BEGIN:VCALENDAR
VERSION:2.0
PRODID:-//hacksw/handcal//NONSGML v1.0//EN
BEGIN:VEVENT
DTSTAMP:20170612T130000Z
DTSTART:20170612T130000Z
DTEND:20170612T150000Z
SUMMARY:Senioren Union Schleswig, Stammtisch mit Rüdiger Knospe
END:VEVENT
END:VCALENDAR
