BEGIN:VCALENDAR
VERSION:2.0
PRODID:-//hacksw/handcal//NONSGML v1.0//EN
BEGIN:VEVENT
DTSTAMP:20170502T130000Z
DTSTART:20170502T130000Z
DTEND:20170502T150000Z
SUMMARY:Senioren-Union Schleswig, Stammtisch mit Johannes Callsen, MdL
END:VEVENT
END:VCALENDAR
