BEGIN:VCALENDAR
VERSION:2.0
PRODID:-//hacksw/handcal//NONSGML v1.0//EN
BEGIN:VEVENT
DTSTAMP:20170426T170000Z
DTSTART:20170426T170000Z
DTEND:20170426T190000Z
SUMMARY:BV Haddeby, Politischer Abend mit Johannes Callsen, MdL
END:VEVENT
END:VCALENDAR
