BEGIN:VCALENDAR
VERSION:2.0
PRODID:-//hacksw/handcal//NONSGML v1.0//EN
BEGIN:VEVENT
DTSTAMP:20170426T173000Z
DTSTART:20170426T173000Z
DTEND:20170426T190000Z
SUMMARY:OV Sörup, Theaterabend op Platt mit Petra Nicolaisen, MdL
END:VEVENT
END:VCALENDAR
