BEGIN:VCALENDAR
VERSION:2.0
PRODID:-//hacksw/handcal//NONSGML v1.0//EN
BEGIN:VEVENT
DTSTAMP:20170401T080000Z
DTSTART:20170401T080000Z
DTEND:20170401T100000Z
SUMMARY:Fahrdorf: Info-Stand mit Johannes Callsen, MdL
END:VEVENT
END:VCALENDAR
