BEGIN:VCALENDAR
VERSION:2.0
PRODID:-//hacksw/handcal//NONSGML v1.0//EN
BEGIN:VEVENT
DTSTAMP:20170419T170000Z
DTSTART:20170419T170000Z
DTEND:20170419T190000Z
SUMMARY:Bezirksverband Kappeln, Jahreshauptversammlung mit Johannes Callsen, MdL
END:VEVENT
END:VCALENDAR
