BEGIN:VCALENDAR
VERSION:2.0
PRODID:-//hacksw/handcal//NONSGML v1.0//EN
BEGIN:VEVENT
DTSTAMP:20170323T183000Z
DTSTART:20170323T183000Z
DTEND:20170323T200000Z
SUMMARY:OV Husby, Tobias Koch, MdL, und Petra Nicolaisen, MdL zu Gast in Husby
END:VEVENT
END:VCALENDAR
