BEGIN:VCALENDAR
VERSION:2.0
PRODID:-//hacksw/handcal//NONSGML v1.0//EN
BEGIN:VEVENT
DTSTAMP:20171117T183000Z
DTSTART:20171117T183000Z
DTEND:20171117T200000Z
SUMMARY:OV Handewitt, Grünkohlessen
END:VEVENT
END:VCALENDAR
