BEGIN:VCALENDAR
VERSION:2.0
PRODID:-//hacksw/handcal//NONSGML v1.0//EN
BEGIN:VEVENT
DTSTAMP:20170313T183000Z
DTSTART:20170313T183000Z
DTEND:20170313T200000Z
SUMMARY:OV Glücksburg, Bürgergespräch in Bockholm
END:VEVENT
END:VCALENDAR
